BEGIN:VCALENDAR
VERSION:2.0
PRODID:-//Tour de Blast - ECPv6.15.20//NONSGML v1.0//EN
CALSCALE:GREGORIAN
METHOD:PUBLISH
X-WR-CALNAME:Tour de Blast
X-ORIGINAL-URL:https://tourdeblast.com
X-WR-CALDESC:Events for Tour de Blast
REFRESH-INTERVAL;VALUE=DURATION:PT1H
X-Robots-Tag:noindex
X-PUBLISHED-TTL:PT1H
BEGIN:VTIMEZONE
TZID:America/Los_Angeles
BEGIN:DAYLIGHT
TZOFFSETFROM:-0800
TZOFFSETTO:-0700
TZNAME:PDT
DTSTART:20210314T100000
END:DAYLIGHT
BEGIN:STANDARD
TZOFFSETFROM:-0700
TZOFFSETTO:-0800
TZNAME:PST
DTSTART:20211107T090000
END:STANDARD
BEGIN:DAYLIGHT
TZOFFSETFROM:-0800
TZOFFSETTO:-0700
TZNAME:PDT
DTSTART:20220313T100000
END:DAYLIGHT
BEGIN:STANDARD
TZOFFSETFROM:-0700
TZOFFSETTO:-0800
TZNAME:PST
DTSTART:20221106T090000
END:STANDARD
BEGIN:DAYLIGHT
TZOFFSETFROM:-0800
TZOFFSETTO:-0700
TZNAME:PDT
DTSTART:20230312T100000
END:DAYLIGHT
BEGIN:STANDARD
TZOFFSETFROM:-0700
TZOFFSETTO:-0800
TZNAME:PST
DTSTART:20231105T090000
END:STANDARD
BEGIN:DAYLIGHT
TZOFFSETFROM:-0800
TZOFFSETTO:-0700
TZNAME:PDT
DTSTART:20240310T100000
END:DAYLIGHT
BEGIN:STANDARD
TZOFFSETFROM:-0700
TZOFFSETTO:-0800
TZNAME:PST
DTSTART:20241103T090000
END:STANDARD
BEGIN:DAYLIGHT
TZOFFSETFROM:-0800
TZOFFSETTO:-0700
TZNAME:PDT
DTSTART:20250309T100000
END:DAYLIGHT
BEGIN:STANDARD
TZOFFSETFROM:-0700
TZOFFSETTO:-0800
TZNAME:PST
DTSTART:20251102T090000
END:STANDARD
BEGIN:DAYLIGHT
TZOFFSETFROM:-0800
TZOFFSETTO:-0700
TZNAME:PDT
DTSTART:20260308T100000
END:DAYLIGHT
BEGIN:STANDARD
TZOFFSETFROM:-0700
TZOFFSETTO:-0800
TZNAME:PST
DTSTART:20261101T090000
END:STANDARD
END:VTIMEZONE
BEGIN:VEVENT
DTSTART;TZID=America/Los_Angeles:20250621T063000
DTEND;TZID=America/Los_Angeles:20250621T170000
DTSTAMP:20260423T153842
CREATED:20240202T011355Z
LAST-MODIFIED:20260109T194408Z
UID:3012-1750487400-1750525200@tourdeblast.com
SUMMARY:Tour de Blast 2025
DESCRIPTION:Tour de Blast\nSaturday\, June 21st\, 2025\nRegistration includes Ride\, food\, drink\, support\, and post-ride pasta feed. \nAlmost there… just a quick review.Get your Registration tickets below! \n\nImportant Milestones\nBridgeview Rest Stop – 61K (38-mile) round-trip\n~1500′ elevation gain\nRest Stop closes at 3:00pm\n \nElk Rock Rest Stop – 87K (54-mile) round trip\n~3\,300′ vertical gain\nRest Stop closes at 2:00pm\n \nColdwater Ridge Rest Stop – 106K (66-mile) round trip\n~4\,350′ vertical gain\nRest Stop closes at 1:00pm\n \n??? Johnston Ridge Rest Stop ??? – 132K (82-mile) round trip\n~6\,240′ vertical gain\nRest Stop closes at 12:30pm\n\n\nLocation\nToutle Lake High School\n5050 Spirit Lake Hwy\nToutle\, WA 98649\n\n\nWhen: 6:30am – 5pm\nPacket pickup and Day of Ride sales start at 6:30am and end at 9am.\nStarting line opens at 6:30am – Leave when you are ready. Please do not leave early.\nSupported Ride closes at 5:00pm – This includes the Pasta Feed and SAG wagons.\n\n\nPlease plan your ride…\nBe aware of the weather conditions and forecast on the day of the ride. Pack smart.\nNote the Rest Stop closing times. Be prepared if you choose to push the times.\nKeep it Fun! Stay aware of your condition during the ride. Make smart choices.\nObey traffic laws and stay alert. Make it back for some pasta.\n\n  \n\nRide Waiver And Hold Harmless Agreement    (there is a quiz later)I understand that I am applying to ride in an open highway ride of up to 135 Km and that all risks and hazards\, foreseen and unforeseen\, that I encounter on the day of the ride are taken at my own peril and assumed by me. I recognize that the ride is strenuous and that I have had the necessary training and experience to participate in the ride. I understand that the ride will be on public highways used by motor vehicles and that participants must obey the laws of the state of Washington related to bicycles on the public highways. I do hereby release and discharge the State of Washington\, the Washington State Transportation Commission\, the Washington State Department of Transportation\, the Washington State Patrol\, and their officers\, agents and employees\, from all claims\, demands and causes of action of whatever kind whatsoever for damages and/or injuries that may result from my participation in the Tour de Blast\, involving the state highways. I further grant full unqualified permission to use my photograph\, name or comments relative to the Tour de Blast ride for any publicity or promotion of the ride without any obligation to me or liability to the sponsors.
URL:https://tourdeblast.com/event/tour-de-blast-2025/
LOCATION:Washington
END:VEVENT
BEGIN:VEVENT
DTSTART;TZID=America/Los_Angeles:20240622T063000
DTEND;TZID=America/Los_Angeles:20240622T170000
DTSTAMP:20260423T153842
CREATED:20230412T154533Z
LAST-MODIFIED:20250717T184528Z
UID:2434-1719037800-1719075600@tourdeblast.com
SUMMARY:Tour de Blast 2024
DESCRIPTION:Tour de Blast\nSaturday\, June 22nd\, 2024\n\nRegistration includes Ride\, food\, drink\, support\, and post-ride pasta feed. \n\nAlmost there…  just a quick review.\nGet your Registration tickets below! \n\n\nImportant Milestones\nBridgeview Rest Stop – 61K (38-mile) round-trip\n~1500′ elevation gain\nRest Stop closes at 3:00pm\n \nElk Rock Rest Stop – 87K (54-mile) round trip\n~3\,300′ vertical gain\nRest Stop closes at 2:00pm\n \nColdwater Ridge Rest Stop – 106K (66-mile) round trip\n~4\,350′ vertical gain\nRest Stop closes at 1:00pm\n \n??? Johnston Ridge Rest Stop ??? – 132K (82-mile) round trip\n~6\,240′ vertical gain\nRest Stop closes at 12:30pm\n\n\nLocation\nToutle Lake High School\n5050 Spirit Lake Hwy\nToutle\, WA 98649\n\n\n\nWhen:  6:30am – 5pm\nPacket pickup and Day of Ride sales start at 6:30am and end at 9am.\nStarting line opens at 6:30am – Leave when you are ready.  Please do not leave early.\nSupported Ride closes at 5:00pm – This includes the Pasta Feed and SAG wagons.\n\n\n\nPlease plan your ride…\nBe aware of the weather conditions and forecast on the day of the ride.  Pack smart.\nNote the Rest Stop closing times.  Be prepared if you choose to push the times.\nKeep it Fun! Stay aware of your condition during the ride.  Make smart choices.\nObey traffic laws and stay alert.  Make it back for some pasta.\n\n\n \n\n\n\nRide Waiver And Hold Harmless Agreement    (there is a quiz later)\nI understand that I am applying to ride in an open highway ride of up to 135 Km and that all risks and hazards\, foreseen and unforeseen\, that I encounter on the day of the ride are taken at my own peril and assumed by me. I recognize that the ride is strenuous and that I have had the necessary training and experience to participate in the ride. I understand that the ride will be on public highways used by motor vehicles and that participants must obey the laws of the state of Washington related to bicycles on the public highways. I do hereby release and discharge the State of Washington\, the Washington State Transportation Commission\, the Washington State Department of Transportation\, the Washington State Patrol\, and their officers\, agents and employees\, from all claims\, demands and causes of action of whatever kind whatsoever for damages and/or injuries that may result from my participation in the Tour de Blast\, involving the state highways. I further grant full unqualified permission to use my photograph\, name or comments relative to the Tour de Blast ride for any publicity or promotion of the ride without any obligation to me or liability to the sponsors.
URL:https://tourdeblast.com/event/tour-de-blast-2024/
LOCATION:Toutle Lake High School\, 5050 Spirit Lake Hwy\, Toutle\, WA\, 98649
END:VEVENT
BEGIN:VEVENT
DTSTART;TZID=America/Los_Angeles:20230617T063000
DTEND;TZID=America/Los_Angeles:20230617T170000
DTSTAMP:20260423T153842
CREATED:20220923T173635Z
LAST-MODIFIED:20241227T012721Z
UID:2139-1686983400-1687021200@tourdeblast.com
SUMMARY:Tour de Blast 2023
DESCRIPTION:Tour de Blast\nSaturday\, June 17th\, 2023\n\nRegistration includes Ride\, food\, drink\, support\, and post-ride pasta feed. \n\nAlmost there…  just a quick review.\nGet your Registration tickets below! \n\n\nImportant Milestones\nBridgeview Rest Stop – 61K (38-mile) round-trip\n~1500′ elevation gain\nRest Stop closes at 3:00pm\n \nElk Rock Rest Stop – 87K (54-mile) round trip\n~3\,300′ vertical gain\nRest Stop closes at 2:00pm\n \nColdwater Ridge Rest Stop – 106K (66-mile) round trip\n~4\,350′ vertical gain\nRest Stop closes at 1:00pm\n\nJohnston Ridge Rest Stop – 132K (82-mile) round trip\n~6\,240′ vertical gain\nRest Stop closes at 12:30pm\n\n\n\nLocation\nToutle Lake High School\n5050 Spirit Lake Hwy\nToutle\, WA 98649\n\n\n\nWhen:  6:30am – 5pm\nPacket pickup and Day of Ride sales start at 6:30am and end at 9am.\nStarting line opens at 6:30am – Leave when you are ready.  Please do not leave early.\nSupported Ride closes at 5:00pm – This includes the Pasta Feed and SAG wagons.\n\n\n\nPlease plan your ride…\nBe aware of the weather conditions and forecast on the day of the ride.  Pack smart.\nNote the Rest Stop closing times.  Be prepared if you choose to push the times.\nKeep it Fun! Stay aware of your condition during the ride.  Make smart choices.\nObey traffic laws and stay alert.  Make it back for some pasta.\n\n\n \n\n\n\nRide Waiver And Hold Harmless Agreement    (there is a quiz later)\nI understand that I am applying to ride in an open highway ride of up to 135 Km and that all risks and hazards\, foreseen and unforeseen\, that I encounter on the day of the ride are taken at my own peril and assumed by me. I recognize that the ride is strenuous and that I have had the necessary training and experience to participate in the ride. I understand that the ride will be on public highways used by motor vehicles and that participants must obey the laws of the state of Washington related to bicycles on the public highways. I do hereby release and discharge the State of Washington\, the Washington State Transportation Commission\, the Washington State Department of Transportation\, the Washington State Patrol\, and their officers\, agents and employees\, from all claims\, demands and causes of action of whatever kind whatsoever for damages and/or injuries that may result from my participation in the Tour de Blast\, involving the state highways. I further grant full unqualified permission to use my photograph\, name or comments relative to the Tour de Blast ride for any publicity or promotion of the ride without any obligation to me or liability to the sponsors.
URL:https://tourdeblast.com/event/tour-de-blast-2023/
LOCATION:Toutle Lake High School\, 5050 Spirit Lake Hwy\, Toutle\, WA\, 98649
END:VEVENT
BEGIN:VEVENT
DTSTART;TZID=America/Los_Angeles:20220618T063000
DTEND;TZID=America/Los_Angeles:20220618T170000
DTSTAMP:20260423T153842
CREATED:20220110T194604Z
LAST-MODIFIED:20260110T193024Z
UID:1011-1655533800-1655571600@tourdeblast.com
SUMMARY:Tour de Blast 2022
DESCRIPTION:Tour de Blast\nSaturday\, June 18th\, 2022\n\nRegistration includes Ride\, food\, drink\, support\, and post-ride pasta feed. \n\nAlmost there…  just a quick review.\nGet your Registration tickets below! \n\n\nImportant Milestones\nBridgeview Rest Stop – 61K (38-mile) round-trip\n~1500′ elevation gain\nRest Stop closes at 3:00pm\n \nElk Rock Rest Stop – 87K (54-mile) round trip\n~3\,300′ vertical gain\nRest Stop closes at 2:00pm\n \nJohnston Ridge Rest Stop – 132K (82-mile) round trip\n~6\,240′ vertical gain\nRest Stop closes at 12:30pm\n\n\nLocation\nToutle Lake High School\n5050 Spirit Lake Hwy\nToutle\, WA 98649\n\n\n\nWhen:  6:30am – 5pm\nPacket pickup and Day of Ride sales start at 6:30am and end at 9am.\nStarting line opens at 6:30am – Leave when you are ready.  Please do not leave early.\nSupported Ride closes at 5:00pm – This includes the Pasta Feed and SAG wagons.\n\n\n\nPlease plan your ride…\nBe aware of the weather conditions and forecast on the day of the ride.  Pack smart.\nNote the Rest Stop closing times.  Be prepared if you choose to push the times.\nKeep it Fun! Stay aware of your condition during the ride.  Make smart choices.\nObey traffic laws and stay alert.  Make it back for some pasta.\n\n\n \n\n\n\nRide Waiver And Hold Harmless Agreement    (there is a quiz later)\nI understand that I am applying to ride in an open highway ride of up to 135 Km and that all risks and hazards\, foreseen and unforeseen\, that I encounter on the day of the ride are taken at my own peril and assumed by me. I recognize that the ride is strenuous and that I have had the necessary training and experience to participate in the ride. I understand that the ride will be on public highways used by motor vehicles and that participants must obey the laws of the state of Washington related to bicycles on the public highways. I do hereby release and discharge the State of Washington\, the Washington State Transportation Commission\, the Washington State Department of Transportation\, the Washington State Patrol\, and their officers\, agents and employees\, from all claims\, demands and causes of action of whatever kind whatsoever for damages and/or injuries that may result from my participation in the Tour de Blast\, involving the state highways. I further grant full unqualified permission to use my photograph\, name or comments relative to the Tour de Blast ride for any publicity or promotion of the ride without any obligation to me or liability to the sponsors.
URL:https://tourdeblast.com/event/tour-de-blast-2022/
LOCATION:Toutle Lake High School\, 5050 Spirit Lake Hwy\, Toutle\, WA\, 98649
END:VEVENT
END:VCALENDAR